
BEGIN:VCALENDAR
VERSION:2.0
PRODID:-//Law School: Events - ECPv6.15.20//NONSGML v1.0//EN
CALSCALE:GREGORIAN
METHOD:PUBLISH
X-ORIGINAL-URL:https://law-events.sydney.edu.au
X-WR-CALDESC:Events for Law School: Events
REFRESH-INTERVAL;VALUE=DURATION:PT1H
X-Robots-Tag:noindex
X-PUBLISHED-TTL:PT1H
BEGIN:VTIMEZONE
TZID:Australia/Sydney
BEGIN:STANDARD
TZOFFSETFROM:+1100
TZOFFSETTO:+1000
TZNAME:AEST
DTSTART:20220402T160000
END:STANDARD
BEGIN:DAYLIGHT
TZOFFSETFROM:+1000
TZOFFSETTO:+1100
TZNAME:AEDT
DTSTART:20221001T160000
END:DAYLIGHT
BEGIN:STANDARD
TZOFFSETFROM:+1100
TZOFFSETTO:+1000
TZNAME:AEST
DTSTART:20230401T160000
END:STANDARD
BEGIN:DAYLIGHT
TZOFFSETFROM:+1000
TZOFFSETTO:+1100
TZNAME:AEDT
DTSTART:20230930T160000
END:DAYLIGHT
BEGIN:STANDARD
TZOFFSETFROM:+1100
TZOFFSETTO:+1000
TZNAME:AEST
DTSTART:20240406T160000
END:STANDARD
BEGIN:DAYLIGHT
TZOFFSETFROM:+1000
TZOFFSETTO:+1100
TZNAME:AEDT
DTSTART:20241005T160000
END:DAYLIGHT
END:VTIMEZONE
BEGIN:VEVENT
DTSTART;TZID=Australia/Sydney:20230529T173000
DTEND;TZID=Australia/Sydney:20230529T190000
DTSTAMP:20260420T122155
CREATED:20240912T235843Z
LAST-MODIFIED:20240913T010818Z
UID:1642-1685381400-1685386800@law-events.sydney.edu.au
SUMMARY:Unnecessary and Insufficient Factual Causes
DESCRIPTION:Unnecessary and Insufficient Factual Causes\nIn-person event \nSydney Law School at the University of Sydney and King & Wood Mallesons are proud to be presenting a seminar with Professor Jane Stapleton. The Law School welcomes the appointment of Professor Jane Stapleton as Honorary Professor of the University of Sydney. \nAbout the seminar \nIn response to the COVID-19 pandemic\, the UK Government decided to take swingeing lock-down measures in March 2020 which resulted in billions of dollars of business interruption loss to hundreds of thousands of enterprises in that country. In a landmark 2021 decision concerning insurance cover for such losses a unanimous UK Supreme Court confirmed that the law recognises that an unnecessary and insufficient factor may be a factual cause of an indivisible loss. \nThe talk\, presented by Honorary Professor Jane Stapleton (University of Sydney) will describe the revolutionary procedure deployed in the case\, how the Justices’ insightful introduction of non-insurance cases and commentary was crucial to the crafting of their decision and how profound an impact that decision may have across the landscape of the law. \nThe event will be chaired by the Honourable Justice Julie Ward\, President of the Court of Appeal\, Supreme Court of New South Wales. \nAbout the speakers\nJane Stapleton KC (Hon)\, FBA \nJane Stapleton is an Honorary Professor at the University of Sydney Law School and has held academic posts at Oxford\, the University of Texas and the Australian National University as well as a number of visiting professorships including at Cambridge\, Harvard\, Columbia and the European University Institute. She has acted as a consultant in commercial\, pharmaceutical\, medical and environmental litigation in the US and UK. \nShe is an Emeritus Council Member of the American Law Institute\, an Honorary Bencher of Gray’s Inn\, an Emeritus Fellow of Balliol College\, Oxford and an Honorary Fellow of St John’s College\, Cambridge. In 2020 she was appointed an Honorary Queen’s Counsel by HM Queen Elizabeth II. In 2022 she stepped down as the 38th Master of Christ’s College\, Cambridge where she continues as a Life Fellow. \nThe Honourable Justice Julie Ward \nJustice Ward completed her Bachelor of Laws at Sydney Law School in 1982 with first class honours and the University Medal for law. She was the youngest female partner to be appointed at Mallesons in 1998. In 2008\, Justice Ward was the first female solicitor to be directly appointed to the Supreme Court bench. \nIn 2022\, Justice Ward was appointed as President of the Court of Appeal in the Supreme Court of NSW\, only the second female to be appointed as a President of the Court of Appeal. \n——————————— \nMonday 29 May 2023\nTime:Â 5.30-7pmÂ (Registration from 5.30pm for a 5.45-7pm seminar. Cocktail function to follow.) \nVenue:Â Level 61\, Governor Phillip Tower\, 1 Farrer Place\, Sydney NSW 2000 \nCPD points:Â 1.25 \n——————————— \nThis event is proudly co-presented by Sydney Law School at the University of Sydney\, and King & Wood Mallesons.
URL:https://law-events.sydney.edu.au/event/unnecessary-and-insufficient-factual-causes/
LOCATION:King & Wood Mallesons
CATEGORIES:CPD eligible events
END:VEVENT
END:VCALENDAR