
BEGIN:VCALENDAR
VERSION:2.0
PRODID:-//Law School: Events - ECPv6.15.20//NONSGML v1.0//EN
CALSCALE:GREGORIAN
METHOD:PUBLISH
X-WR-CALNAME:Law School: Events
X-ORIGINAL-URL:https://law-events.sydney.edu.au
X-WR-CALDESC:Events for Law School: Events
REFRESH-INTERVAL;VALUE=DURATION:PT1H
X-Robots-Tag:noindex
X-PUBLISHED-TTL:PT1H
BEGIN:VTIMEZONE
TZID:Australia/Sydney
BEGIN:STANDARD
TZOFFSETFROM:+1100
TZOFFSETTO:+1000
TZNAME:AEST
DTSTART:20230401T160000
END:STANDARD
BEGIN:DAYLIGHT
TZOFFSETFROM:+1000
TZOFFSETTO:+1100
TZNAME:AEDT
DTSTART:20230930T160000
END:DAYLIGHT
BEGIN:STANDARD
TZOFFSETFROM:+1100
TZOFFSETTO:+1000
TZNAME:AEST
DTSTART:20240406T160000
END:STANDARD
BEGIN:DAYLIGHT
TZOFFSETFROM:+1000
TZOFFSETTO:+1100
TZNAME:AEDT
DTSTART:20241005T160000
END:DAYLIGHT
BEGIN:STANDARD
TZOFFSETFROM:+1100
TZOFFSETTO:+1000
TZNAME:AEST
DTSTART:20250405T160000
END:STANDARD
BEGIN:DAYLIGHT
TZOFFSETFROM:+1000
TZOFFSETTO:+1100
TZNAME:AEDT
DTSTART:20251004T160000
END:DAYLIGHT
END:VTIMEZONE
BEGIN:VEVENT
DTSTART;TZID=Australia/Sydney:20240228T180000
DTEND;TZID=Australia/Sydney:20240228T193000
DTSTAMP:20260421T021533
CREATED:20240912T235504Z
LAST-MODIFIED:20240913T010722Z
UID:1593-1709143200-1709148600@law-events.sydney.edu.au
SUMMARY:2024 Paul Byrne Memorial Lecture: The Rule of Law in Modern Australia
DESCRIPTION:2024 Paul Byrne Memorial Lecture: The Rule of Law in Modern Australia\nDelivered by The Honourable Chief Justice Lucy McCallum\nIn-person event \n**This event is now at full capacity. A recording will be released after the event.** \nAbout the speaker\nChief Justice Lucy McCallum graduated with a BA/LLB from the University of New South Wales in 1986\, majoring in philosophy.Â  She commenced her legal career as a commercial litigation solicitor at Mallesons Stephen Jaques in Sydney before moving to Canberra to take up a position as a prosecutor in 1988.Â  In 1990\, her Honour joined the Queensland DPP as a trial advocate.Â  She returned to Sydney in 1991 to become a barrister\, taking silk in 2005.Â  In 2008\, her Honour was appointed as a judge of the Supreme Court of New South Wales in the Common Law Division. \nIn 2016\, Chief Justice McCallum was appointed Chair of the NSW Judicial Commission Ngara Yura Committee\, which works to educate judicial officers on matters relating to contemporary socio-cultural issues that have an impact on Aboriginal people in the justice system. In February 2019\, she was elevated to the New South Wales Court of Appeal.Â  Her Honour was sworn in as Chief Justice of the Australian Capital Territory on 8 March 2022.Â  Her personal interests include a range of outdoor adventure sports as well as cooking\, music and reading. \nWEDNESDAY 28 FEBRUARY 2024\nTime:Â 6-7.30pmÂ (followed by a cocktail reception) \nThis event is being held in-person at Sydney Law School. \n  \nCPD Points:Â 1.5 \n  \nThe Paul Byrne Memorial Fund\nThe Paul Byrne Memorial Fund was set up to honour and continue Paul’s interest in the criminal justice system by supporting the ongoing activities of the Institute of Criminology\, such as lectures\, seminars\, publications\, and awards. Attendees of the Paul Byrne SC Memorial Lecture are warmly invited to make a donation to The Paul Byrne SC Memorial Fund. \nGifts to The Paul Byrne SC Memorial Fund support the activities of the Institute of Criminology and other activities in the field of criminal law at Sydney Law School\, in memory of the late Paul Byrne SC. \n  \nThis event is proudly hosted by the Sydney Institute of Criminology\, highlighting the Institute’s support of critical criminal justice research\, practice\, policy and debate.
URL:https://law-events.sydney.edu.au/event/2024-paul-byrne-memorial-lecture-the-rule-of-law-in-modern-australia/
LOCATION:Law Foyer\, Level 2
CATEGORIES:CPD eligible events,Criminology events
END:VEVENT
END:VCALENDAR